BEGIN:VCALENDAR
VERSION:2.0
PRODID:-//The College of Healing - ECPv6.15.20//NONSGML v1.0//EN
CALSCALE:GREGORIAN
METHOD:PUBLISH
X-WR-CALNAME:The College of Healing
X-ORIGINAL-URL:https://www.collegeofhealing.org
X-WR-CALDESC:Events for The College of Healing
REFRESH-INTERVAL;VALUE=DURATION:PT1H
X-Robots-Tag:noindex
X-PUBLISHED-TTL:PT1H
BEGIN:VTIMEZONE
TZID:Europe/London
BEGIN:DAYLIGHT
TZOFFSETFROM:+0000
TZOFFSETTO:+0100
TZNAME:BST
DTSTART:20230326T010000
END:DAYLIGHT
BEGIN:STANDARD
TZOFFSETFROM:+0100
TZOFFSETTO:+0000
TZNAME:GMT
DTSTART:20231029T010000
END:STANDARD
BEGIN:DAYLIGHT
TZOFFSETFROM:+0000
TZOFFSETTO:+0100
TZNAME:BST
DTSTART:20240331T010000
END:DAYLIGHT
BEGIN:STANDARD
TZOFFSETFROM:+0100
TZOFFSETTO:+0000
TZNAME:GMT
DTSTART:20241027T010000
END:STANDARD
BEGIN:DAYLIGHT
TZOFFSETFROM:+0000
TZOFFSETTO:+0100
TZNAME:BST
DTSTART:20250330T010000
END:DAYLIGHT
BEGIN:STANDARD
TZOFFSETFROM:+0100
TZOFFSETTO:+0000
TZNAME:GMT
DTSTART:20251026T010000
END:STANDARD
END:VTIMEZONE
BEGIN:VEVENT
DTSTART;TZID=Europe/London:20240921T090000
DTEND;TZID=Europe/London:20241013T170000
DTSTAMP:20260424T192158
CREATED:20240723T175330Z
LAST-MODIFIED:20240807T125837Z
UID:5552-1726909200-1728838800@www.collegeofhealing.org
SUMMARY:Foundation Course in Spiritual & Energy Healing – Great Malvern\, Worcestershire
DESCRIPTION:This 4-day Foundation Course will provide you with a basic\, fundamental understanding of Self Care\, Self-Healing and Spiritual & Energy Healing\, enabling you to apply your newly learned skills to to Heal yourself and offer Healing to your family and your friends.\n\n\n\nThe course is designed to take complete beginners through the first stages of self-development\, allowing you to become familiar with basic practices which will give you support throughout your life. You will learn about self-care\, the Aura\, the Chakras\, Meditation and self-reflection. \nAs the course develops\, and you begin to put into practice your new skills\, you will discover many things about yourself while growing in confidence and understanding. \nAt the end of the course you will be ready to practise your healing skills on family and friends. In some areas\, ongoing development groups exist which give students the opportunity to continue developing under supervision of one of the Facilitators. \nThis is a relatively short course\, with immense value for money. \nIt is particularly beneficial for anyone wishing to improve their own lifestyle\, change their work focus or improve their job skills. \nClick here to read about this course in more detail. \nThe full dates for the course are:  21/22 September and 12/13 October 2024 \nCourse Facilitator:  Fran Doidge\, BSc\, MCoHMA\, MIFPA \nCourse fees: £400.00 to include all teaching and assessments.  A deposit of £100.00 is required to secure a place. \nA certificate will be provided to students who successfully complete the course. \nClick here to read about this course in more detail. \nTo book a place\, please click here.
URL:https://www.collegeofhealing.org/event/foundation-course-in-spiritual-energy-healing-great-malvern-worcestershire/
ORGANIZER;CN="Fran Doidge":MAILTO:fran@coachingforwellbeing.co.uk
END:VEVENT
BEGIN:VEVENT
DTSTART;TZID=Europe/London:20240928T090000
DTEND;TZID=Europe/London:20241117T170000
DTSTAMP:20260424T192158
CREATED:20240618T115519Z
LAST-MODIFIED:20240807T125741Z
UID:5521-1727514000-1731862800@www.collegeofhealing.org
SUMMARY:Advanced Healing Module 2 - Exploring Negative Energies
DESCRIPTION:A 6-day course exploring negative energies\, internal and external to include: thought forms\, attachments\, links\, spirit release\, sub-personalities \n\nHow we define negative energies\nA spiritual perspective on negative energies\nDeveloping your yang energy: protection and challenging\nClearing links\, clearing energy in space and place\nNegative energies in the aura; how they arise and how to clear them\nClearing houses and the workplace\nHealing cases practical\n\nClick here for more details of the course content. \nCost: £600.00 for members of the COHMA and £690.00 for non-members.  A deposit of £100.00 will be required on booking. \nThere will be an additional fee of £20.00 for assessment at the end of the course. (Assessment is optional.) A certificate will be provided if all requirements of the course and the assessment have been completed. \nFull dates: 28/29 September\, 26/27 October\, 16/17 November 2024\nTutors: Jo Radley\, Ben Stevens \nLink person: Meg McDonald \nRead about this course in more detail here \nDownload the application form: ADH Application Form
URL:https://www.collegeofhealing.org/event/advanced-healing-module-2-exploring-negative-energies-3/
LOCATION:Bridge Hall\, Portland Street\, Malvern\, WR14 2TA\, United Kingdom
ORGANIZER;CN="Jo Radley":MAILTO:joradley143@btinternet.com
END:VEVENT
BEGIN:VEVENT
DTSTART;TZID=Europe/London:20241005T090000
DTEND;TZID=Europe/London:20241208T170000
DTSTAMP:20260424T192158
CREATED:20240725T173841Z
LAST-MODIFIED:20241009T154647Z
UID:5561-1728118800-1733677200@www.collegeofhealing.org
SUMMARY:Foundation Course in Spiritual & Energy Healing - Bridgnorth\, Shropshire
DESCRIPTION:This 4-day Foundation Course will provide you with a basic\, fundamental understanding of Self Care\, Self-Healing and Spiritual & Energy Healing\, enabling you to apply your newly learned skills to to heal yourself and offer Healing to your family and your friends. \nThe course is designed to take complete beginners through the first stages of self-development\, allowing you to become familiar with basic practices which will give you support throughout your life. You will learn about self-care\, the Aura\, the Chakras\, Meditation and self-reflection. \nAs the course develops\, and you begin to put into practice your new skills\, you will discover many things about yourself while growing in confidence and understanding. \nAt the end of the course you will be ready to practise your healing skills on family and friends. In some areas\, ongoing development groups exist which give students the opportunity to continue developing under supervision of the Facilitator. \nThis is a relatively short course\, with immense value for money. \nIt is particularly beneficial for anyone wishing to improve their own lifestyle\, change their work focus or improve their job skills. \nClick here to read about this course in  more detail. \nThe full dates for the course are:  5/6 October & 7/8 December 2024 \nCourse fees: £400.00 to include all teaching and assessments.  A deposit of £100.00 is required to secure a place. \nA certificate will be provided to students who successfully complete the course. \nTo ensure that everyone attending gets the maximum benefit from the training\, the number of attendees is limited\, so please contact us as soon as possible to declare your interest. \nClick here to read about this course in  more detail. \nTo book a place\, click here.
URL:https://www.collegeofhealing.org/event/foundation-course-in-spiritual-energy-healing-bridgnorth-2/
LOCATION:Daleswood\, Britons Lane\, Linley Brook\, Bridgnorth\, Shropshire\, WV16 4TA
ORGANIZER;CN="Lizzy Gunning":MAILTO:liz761@yahoo.co.uk
END:VEVENT
BEGIN:VEVENT
DTSTART;TZID=Europe/London:20241021T183000
DTEND;TZID=Europe/London:20241209T213000
DTSTAMP:20260424T192158
CREATED:20240723T175753Z
LAST-MODIFIED:20240807T125436Z
UID:5554-1729535400-1733779800@www.collegeofhealing.org
SUMMARY:Foundation Course in Spiritual & Energy Healing – Great Malvern\, Worcestershire
DESCRIPTION:This Foundation Course will provide you with a basic\, fundamental understanding of Self Care\, Self-Healing and Spiritual & Energy Healing\, enabling you to apply your newly learned skills to to Heal yourself and offer Healing to your family and your friends.\n\n\n\nThe course is designed to take complete beginners through the first stages of self-development\, allowing you to become familiar with basic practices which will give you support throughout your life. You will learn about self-care\, the Aura\, the Chakras\, Meditation and self-reflection. \nAs the course develops\, and you begin to put into practice your new skills\, you will discover many things about yourself while growing in confidence and understanding. \nAt the end of the course you will be ready to practise your healing skills on family and friends. In some areas\, ongoing development groups exist which give students the opportunity to continue developing under supervision of one of the Facilitators. \nThis is a relatively short course\, with immense value for money. \nIt is particularly beneficial for anyone wishing to improve their own lifestyle\, change their work focus or improve their job skills. \nClick here to read about this course in more detail. \nThe full dates for the course are: \n8 x Monday evening sessions in Autumn 2024 \n6.30pm – 9.30pm \n21 Oct / 28 Oct / 4 Nov / 11 Nov / 18 Nov / 25 Nov / 2 Dec / 9 Dec 2024 \nCourse Facilitator:  Fran Doidge\, BSc\, MCoHMA\, MIFPA \nCourse fees: £400.00 to include all teaching and assessments.  A deposit of £100.00 is required to secure a place. \nA certificate will be provided to students who successfully complete the course. \nClick here to read about this course in more detail. \nTo book a place\, click here.
URL:https://www.collegeofhealing.org/event/foundation-course-in-spiritual-energy-healing-great-malvern-worcestershire-2/
ORGANIZER;CN="Fran Doidge":MAILTO:fran@coachingforwellbeing.co.uk
END:VEVENT
BEGIN:VEVENT
DTSTART;TZID=Europe/London:20241024T093000
DTEND;TZID=Europe/London:20241108T173000
DTSTAMP:20260424T192158
CREATED:20241007T102357Z
LAST-MODIFIED:20241009T154538Z
UID:5636-1729762200-1731087000@www.collegeofhealing.org
SUMMARY:Foundation Course in Spiritual & Energy Healing – North Shropshire
DESCRIPTION:This 4-day Foundation Course will provide you with a basic\, fundamental understanding of Self Care\, Self-Healing and Spiritual & Energy Healing\, enabling you to apply your newly learned skills to to Heal yourself and offer Healing to your family and your friends. \n\n\n\nThe course is designed to take complete beginners through the first stages of self-development\, allowing you to become familiar with basic practices which will give you support throughout your life. You will learn about self-care\, the Aura\, the Chakras\, Meditation and self-reflection. \nAs the course develops\, and you begin to put into practice your new skills\, you will discover many things about yourself while growing in confidence and understanding. \nAt the end of the course you will be ready to practise your healing skills on family and friends. In some areas\, ongoing development groups exist which give students the opportunity to continue developing under supervision of one of the Facilitators. \nThis is a relatively short course\, with immense value for money. \nIt is particularly beneficial for anyone wishing to improve their own lifestyle\, change their work focus or improve their job skills. \nClick here to read about this course in more detail. \nThe full dates for the course are:  24/25 October and 7/8 November 2024 \nCourse Facilitator:  Fiona Winter \nCourse fees: £400.00 to include all teaching and assessments.  A deposit of £100.00 is required to secure a place. \nA certificate will be provided to students who successfully complete the course. \nClick here to read about this course in more detail. \nTo book a place\, please click here.
URL:https://www.collegeofhealing.org/event/foundation-course-in-spiritual-energy-healing-north-shropshire/
LOCATION:North Shropshire
ORGANIZER;CN="Fiona Winter":MAILTO:fiona@collegeofhealing.org
END:VEVENT
END:VCALENDAR