BEGIN:VCALENDAR
VERSION:2.0
PRODID:-//The College of Healing - ECPv6.15.20//NONSGML v1.0//EN
CALSCALE:GREGORIAN
METHOD:PUBLISH
X-ORIGINAL-URL:https://www.collegeofhealing.org
X-WR-CALDESC:Events for The College of Healing
REFRESH-INTERVAL;VALUE=DURATION:PT1H
X-Robots-Tag:noindex
X-PUBLISHED-TTL:PT1H
BEGIN:VTIMEZONE
TZID:Europe/London
BEGIN:DAYLIGHT
TZOFFSETFROM:+0000
TZOFFSETTO:+0100
TZNAME:BST
DTSTART:20240331T010000
END:DAYLIGHT
BEGIN:STANDARD
TZOFFSETFROM:+0100
TZOFFSETTO:+0000
TZNAME:GMT
DTSTART:20241027T010000
END:STANDARD
BEGIN:DAYLIGHT
TZOFFSETFROM:+0000
TZOFFSETTO:+0100
TZNAME:BST
DTSTART:20250330T010000
END:DAYLIGHT
BEGIN:STANDARD
TZOFFSETFROM:+0100
TZOFFSETTO:+0000
TZNAME:GMT
DTSTART:20251026T010000
END:STANDARD
BEGIN:DAYLIGHT
TZOFFSETFROM:+0000
TZOFFSETTO:+0100
TZNAME:BST
DTSTART:20260329T010000
END:DAYLIGHT
BEGIN:STANDARD
TZOFFSETFROM:+0100
TZOFFSETTO:+0000
TZNAME:GMT
DTSTART:20261025T010000
END:STANDARD
BEGIN:DAYLIGHT
TZOFFSETFROM:+0000
TZOFFSETTO:+0100
TZNAME:BST
DTSTART:20270328T010000
END:DAYLIGHT
BEGIN:STANDARD
TZOFFSETFROM:+0100
TZOFFSETTO:+0000
TZNAME:GMT
DTSTART:20271031T010000
END:STANDARD
END:VTIMEZONE
BEGIN:VEVENT
DTSTART;TZID=Europe/London:20250201T090000
DTEND;TZID=Europe/London:20261130T173000
DTSTAMP:20260421T180131
CREATED:20240729T124120Z
LAST-MODIFIED:20240817T231010Z
UID:5571-1738400400-1796059800@www.collegeofhealing.org
SUMMARY:Practitioner Course in Spiritual & Energy Healing
DESCRIPTION:Our 2-year Practitioner Course  is suitable for people who already have an understanding and experience of giving Healing. \nTo qualify for entry on this course you must have completed one of the following: \n\nThe College of Healing Foundation Course;\nThe College of Healing Self-Care and Self-Healing Course\, as well as the Introductory Course in Spiritual and Energy Healing; OR\nYou can show that you have the basic knowledge and understanding of Spiritual and Energy Healing necessary to attend the course\n\nYou will also need to attend an interview. \nOur flagship Practitioner course draws out your natural Healing skills and deepens your spiritual and personal development. \nFull dates for the course: \n\n2025 dates: 1-2 Feb\, 1-2 Mar\, 5-6 Apr\, 6-7 Sept\, 4-5 Oct\, 1-2 Nov\n2026 dates: 7-8 Mar\, 11-12 Apr\, 16-17 May  plus 3 more session dates t.b.c. in Sept\, Oct and Nov\n\nTo find out more details about the course and how to apply\, click here.
URL:https://www.collegeofhealing.org/event/practitioner-course-in-spiritual-energy-healing/
ORGANIZER;CN="College of Healing":MAILTO:info@collegeofhealing.org
END:VEVENT
BEGIN:VEVENT
DTSTART;VALUE=DATE:20251115
DTEND;VALUE=DATE:20251117
DTSTAMP:20260421T180131
CREATED:20251006T153326Z
LAST-MODIFIED:20251006T153540Z
UID:5848-1763208000-1763294399@www.collegeofhealing.org
SUMMARY:Introduction to Elemental Energies
DESCRIPTION:This 1 day course will explain what elemental energies are and how we can interact with them. We will explain how working with the elements of air\, earth\, fire and water can help us with our own self development and when working as Healers. It will also offer a new way of connecting with the natural world around you. \nAt the end of the day you will have some personal practices to take away and a sense of whether you would like to explore this work in more detail on our 6 day “Working as a Healer with Elemental Energies” Advanced Healing Module. \nThis introductory day is open to anyone who has completed our 4 day Foundation Course or above. \n[However\, please note that in order to take the full 6 day Advanced Healing Module\, Working as a Healer with Elemental Energies\, you need to have completed the Practitioner or Diploma Course. \nTea and coffee will be provided. Bring a packed lunch\, or there are various shops within easy reach. \nTutors: Jo Radley\, Meg McDonald\, Matthew Hargreaves\nCost: £80.00\nBookings/enquiries: info@collegeofhealing.org / 07442 497263
URL:https://www.collegeofhealing.org/event/introduction-to-elemental-energies/
LOCATION:Bridge Hall\, Portland Street\, Malvern\, WR14 2TA\, United Kingdom
END:VEVENT
BEGIN:VEVENT
DTSTART;TZID=Europe/London:20251122T093000
DTEND;TZID=Europe/London:20251207T170000
DTSTAMP:20260421T180131
CREATED:20250529T150351Z
LAST-MODIFIED:20251019T201756Z
UID:5796-1763803800-1765126800@www.collegeofhealing.org
SUMMARY:Foundation Course in Spiritual & Energy Healing – Great Malvern\, Worcestershire
DESCRIPTION:The full dates for the course are:  22/23 November & 6/7 December 2025 \nThis 4-day Foundation Course will provide you with a basic\, fundamental understanding of Self Care\, Self-Healing and Spiritual & Energy Healing\, enabling you to apply your newly learned skills to to Heal yourself and offer Healing to your family and your friends. \n\nThe course is designed to take complete beginners through the first stages of self-development\, allowing you to become familiar with basic practices which will give you support throughout your life. You will learn about self-care\, the Aura\, the Chakras\, Meditation and self-reflection. \nAs the course develops\, and you begin to put into practice your new skills\, you will discover many things about yourself while growing in confidence and understanding. \nAt the end of the course you will be ready to practise your healing skills on family and friends. In some areas\, ongoing development groups exist which give students the opportunity to continue developing under supervision of one of the Facilitators. \nThis is a relatively short course\, with immense value for money. \nIt is particularly beneficial for anyone wishing to improve their own lifestyle\, change their work focus or improve their job skills. \nClick here to read about this course in more detail. \nCourse Facilitator:  Fran Doidge\, BSc\, MCoHMA\, MIFPA \nCourse fees: £400.00 to include all teaching and assessments.  A deposit of £100.00 is required to secure a place. \nA certificate will be provided to students who successfully complete the course. \nClick here to read about this course in more detail. \nTo book a place\, please click here.
URL:https://www.collegeofhealing.org/event/foundation-course-in-spiritual-energy-healing-great-malvern-worcestershire-6/
LOCATION:Bloom.Space\, The Grange\, Grange Road\, Malvern\, Worcestershire\, WR14 3HA
ORGANIZER;CN="Fran Doidge":MAILTO:fran@coachingforwellbeing.co.uk
END:VEVENT
END:VCALENDAR